BEGIN:VCALENDAR
VERSION:2.0
PRODID:spatie/icalendar-generator
NAME:Westlake Demons Athletic Boosters Calendar
X-WR-CALNAME:Westlake Demons Athletic Boosters Calendar
REFRESH-INTERVAL;VALUE=DURATION:PT30M
X-PUBLISHED-TTL:PT30M
BEGIN:VTIMEZONE
TZID:America/New_York
BEGIN:STANDARD
DTSTART:20251102T010000
TZOFFSETFROM:-0400
TZOFFSETTO:-0500
END:STANDARD
BEGIN:DAYLIGHT
DTSTART:20260308T010000
TZOFFSETFROM:-0500
TZOFFSETTO:-0400
END:DAYLIGHT
BEGIN:STANDARD
DTSTART:20261101T010000
TZOFFSETFROM:-0400
TZOFFSETTO:-0500
END:STANDARD
END:VTIMEZONE
BEGIN:VTIMEZONE
TZID:UTC
BEGIN:STANDARD
DTSTART:20250728T144905
TZOFFSETFROM:+0000
TZOFFSETTO:+0000
END:STANDARD
END:VTIMEZONE
BEGIN:VEVENT
UID:event-598349@westlakedemonsathleticboosters.boosterhub.com
DTSTAMP:20260424T144905Z
SUMMARY:WDAB Meeting
DESCRIPTION:
LOCATION:WHS Red Brick Room
DTSTART;TZID=America/New_York:20260507T190000
DTEND;TZID=America/New_York:20260507T200000
END:VEVENT
BEGIN:VEVENT
UID:event-756578@westlakedemonsathleticboosters.boosterhub.com
DTSTAMP:20260424T144905Z
SUMMARY:WDAB Meeting
DESCRIPTION:
LOCATION:WHS Red Brick Room
DTSTART;TZID=America/New_York:20260604T190000
DTEND;TZID=America/New_York:20260604T200000
END:VEVENT
BEGIN:VEVENT
UID:event-888786@westlakedemonsathleticboosters.boosterhub.com
DTSTAMP:20260424T144905Z
SUMMARY:Boys Lacrosse
DESCRIPTION:
LOCATION:
DTSTART;TZID=America/New_York:20260423T180000
DTEND;TZID=America/New_York:20260423T200000
END:VEVENT
BEGIN:VEVENT
UID:event-888787@westlakedemonsathleticboosters.boosterhub.com
DTSTAMP:20260424T144905Z
SUMMARY:Boys Lacrosse
DESCRIPTION:
LOCATION:
DTSTART;TZID=America/New_York:20260424T180000
DTEND;TZID=America/New_York:20260424T200000
END:VEVENT
BEGIN:VEVENT
UID:event-888788@westlakedemonsathleticboosters.boosterhub.com
DTSTAMP:20260424T144905Z
SUMMARY:Girls Lacrosse
DESCRIPTION:
LOCATION:
DTSTART;TZID=America/New_York:20260427T180000
DTEND;TZID=America/New_York:20260427T200000
END:VEVENT
BEGIN:VEVENT
UID:event-888789@westlakedemonsathleticboosters.boosterhub.com
DTSTAMP:20260424T144905Z
SUMMARY:Girls Lacrosse
DESCRIPTION:
LOCATION:
DTSTART;TZID=America/New_York:20260429T180000
DTEND;TZID=America/New_York:20260429T200000
END:VEVENT
BEGIN:VEVENT
UID:event-888790@westlakedemonsathleticboosters.boosterhub.com
DTSTAMP:20260424T144905Z
SUMMARY:Boys Lacrosse
DESCRIPTION:
LOCATION:
DTSTART;TZID=America/New_York:20260430T180000
DTEND;TZID=America/New_York:20260430T200000
END:VEVENT
BEGIN:VEVENT
UID:event-888792@westlakedemonsathleticboosters.boosterhub.com
DTSTAMP:20260424T144905Z
SUMMARY:Girls Lacrosse
DESCRIPTION:
LOCATION:
DTSTART;TZID=America/New_York:20260505T180000
DTEND;TZID=America/New_York:20260505T200000
END:VEVENT
BEGIN:VEVENT
UID:event-888793@westlakedemonsathleticboosters.boosterhub.com
DTSTAMP:20260424T144905Z
SUMMARY:Boys Lacrosse
DESCRIPTION:
LOCATION:
DTSTART;TZID=America/New_York:20260501T180000
DTEND;TZID=America/New_York:20260501T200000
END:VEVENT
BEGIN:VEVENT
UID:event-1176747@westlakedemonsathleticboosters.boosterhub.com
DTSTAMP:20260424T144905Z
SUMMARY:W Shop
DESCRIPTION:<p>Join the W Shop volunteer team!</p><h5><span style=\"color: 
 rgb(107\, 36\, 178)\;\">*Subject to volunteer availability</span></h5><p><
 br></p>
LOCATION:Westlake High School
DTSTART;TZID=America/New_York:20260429T103000
DTEND;TZID=America/New_York:20260429T130000
END:VEVENT
BEGIN:VEVENT
UID:event-1176748@westlakedemonsathleticboosters.boosterhub.com
DTSTAMP:20260424T144905Z
SUMMARY:W Shop
DESCRIPTION:<p>Join the W Shop volunteer team!</p><h5><span style=\"color: 
 rgb(107\, 36\, 178)\;\">*Subject to volunteer availability</span></h5><p><
 br></p>
LOCATION:Westlake High School
DTSTART;TZID=America/New_York:20260426T090000
DTEND;TZID=America/New_York:20260426T120000
END:VEVENT
END:VCALENDAR